BEGIN:VCALENDAR
VERSION:2.0
PRODID:-//USEP Nord - ECPv4.8.2//NONSGML v1.0//EN
CALSCALE:GREGORIAN
METHOD:PUBLISH
X-WR-CALNAME:USEP Nord
X-ORIGINAL-URL:https://usep.ligue59.org
X-WR-CALDESC:Évènements pour USEP Nord
BEGIN:VEVENT
DTSTART;TZID=Europe/Paris:20240916T170000
DTEND;TZID=Europe/Paris:20240916T190000
DTSTAMP:20260422T094643
CREATED:20240708T100954Z
LAST-MODIFIED:20240708T101604Z
UID:4814-1726506000-1726513200@usep.ligue59.org
SUMMARY:Réunion d'informations 2024-2025
DESCRIPTION:PAS ENCORE AFFILIÉS OU DÉJÀ AFFILIÉS ?  \nNous serons ravis de vous retrouver lors de notre visio de rentrée le lundi 16 septembre 2024 à partir de 17h15.  \nNous pourrons échanger avec vous et vous donner en exclusivité quelques informations sur le programme de l’année ! \nLien ZOOM \n  \n  \n
URL:https://usep.ligue59.org/event/reunion-dinformations-2024/
END:VEVENT
END:VCALENDAR