BEGIN:VCALENDAR
VERSION:2.0
PRODID:-//USEP Nord - ECPv4.8.2//NONSGML v1.0//EN
CALSCALE:GREGORIAN
METHOD:PUBLISH
X-WR-CALNAME:USEP Nord
X-ORIGINAL-URL:https://usep.ligue59.org
X-WR-CALDESC:Évènements pour USEP Nord
BEGIN:VEVENT
DTSTART;TZID=Europe/Paris:20250929T171500
DTEND;TZID=Europe/Paris:20250929T193000
DTSTAMP:20260422T085658
CREATED:20250829T095527Z
LAST-MODIFIED:20250829T113727Z
UID:5780-1759166100-1759174200@usep.ligue59.org
SUMMARY:Réunion d'information 2025-2026
DESCRIPTION:PAS ENCORE AFFILIES OU DEJA AFFILIES? \nNous serons ravis de vous retrouver lors de notre visio de rentrée le lundi 29 septembre 2025 à partir de 17h15. \nNous pourrons échanger avec vous et vous donner en exclusivité quelques informations sur le programme de l’année ! \nLIEN ZOOM \n  \n
URL:https://usep.ligue59.org/event/reunion-dinformation-2024-2025/
END:VEVENT
END:VCALENDAR