BEGIN:VCALENDAR
VERSION:2.0
PRODID:-//USEP Nord - ECPv4.8.2//NONSGML v1.0//EN
CALSCALE:GREGORIAN
METHOD:PUBLISH
X-WR-CALNAME:USEP Nord
X-ORIGINAL-URL:https://usep.ligue59.org
X-WR-CALDESC:Évènements pour USEP Nord
BEGIN:VEVENT
DTSTART;TZID=Europe/Paris:20170308T150000
DTEND;TZID=Europe/Paris:20170308T170000
DTSTAMP:20260422T132735
CREATED:20170302T160309Z
LAST-MODIFIED:20170302T160309Z
UID:569-1488985200-1488992400@usep.ligue59.org
SUMMARY:Réunion de bureau de l'USEP Nord
DESCRIPTION:
URL:https://usep.ligue59.org/event/reunion-de-bureau-de-lusep-nord/
LOCATION:Villeneuve d’Ascq
CATEGORIES:Vie statutaire du comité USEP 59
END:VEVENT
END:VCALENDAR