BEGIN:VCALENDAR
VERSION:2.0
PRODID:-//USEP Nord - ECPv4.8.2//NONSGML v1.0//EN
CALSCALE:GREGORIAN
METHOD:PUBLISH
X-WR-CALNAME:USEP Nord
X-ORIGINAL-URL:https://usep.ligue59.org
X-WR-CALDESC:Évènements pour USEP Nord
BEGIN:VEVENT
DTSTART;TZID=Europe/Paris:20170628T093000
DTEND;TZID=Europe/Paris:20170628T153000
DTSTAMP:20260422T115653
CREATED:20170302T140821Z
LAST-MODIFIED:20170302T154044Z
UID:488-1498642200-1498663800@usep.ligue59.org
SUMMARY:Rencontre départementale USEPIADES cycle 3
DESCRIPTION:Les USEPIADES cycle 3 qui s’adressent à 20 classes de Cycle 3 auront lieu le mercredi 28 juin 2017 au Stade Vandeveegaete à Tourcoing de 9H30 à 16h00. \nAu cours de cette journée\, seront proposées deux activités traditionnelles revisitées : l’athlétisme et le foot et deux activités sportives nouvelles ou peu pratiquées.  Parmi les sports possibles\, peuvent être envisagés : Kin-ball\, Tchoukball\, Golf\, Roller\, Badminton\, Ultimate\, Tennis\, Pelote Basque\, Intercrosse\, Orientation\, Activités Handisport… \nUn atelier « Débat associatif » sera organisé. Il regroupera 2 enfants par classe volontaires et/ou élus qui porteront\, lors des Usépiades\, la parole de la classe. \n
URL:https://usep.ligue59.org/event/rencontre-departementale-usepiades-cycle-3/
LOCATION:Tourcoing
CATEGORIES:Rencontres départementales
END:VEVENT
END:VCALENDAR