BEGIN:VCALENDAR
VERSION:2.0
PRODID:-//USEP Nord - ECPv4.8.2//NONSGML v1.0//EN
CALSCALE:GREGORIAN
METHOD:PUBLISH
X-WR-CALNAME:USEP Nord
X-ORIGINAL-URL:https://usep.ligue59.org
X-WR-CALDESC:Évènements pour USEP Nord
BEGIN:VEVENT
DTSTART;TZID=Europe/Paris:20180627T093000
DTEND;TZID=Europe/Paris:20180627T160000
DTSTAMP:20260420T134104
CREATED:20171113T130954Z
LAST-MODIFIED:20180209T112616Z
UID:1600-1530091800-1530115200@usep.ligue59.org
SUMMARY:Rencontre Départementale USEPIADES Cycle 3
DESCRIPTION:
URL:https://usep.ligue59.org/event/rencontre-departementale-usepiades-cycle-3-2/
CATEGORIES:Rencontres départementales,Rencontres sportives
END:VEVENT
END:VCALENDAR