BEGIN:VCALENDAR
VERSION:2.0
PRODID:-//USEP Nord - ECPv4.8.2//NONSGML v1.0//EN
CALSCALE:GREGORIAN
METHOD:PUBLISH
X-WR-CALNAME:USEP Nord
X-ORIGINAL-URL:https://usep.ligue59.org
X-WR-CALDESC:Évènements pour USEP Nord
BEGIN:VEVENT
DTSTART;TZID=Europe/Paris:20180530T093000
DTEND;TZID=Europe/Paris:20180530T160000
DTSTAMP:20260422T085702
CREATED:20171113T125854Z
LAST-MODIFIED:20180323T103716Z
UID:1597-1527672600-1527696000@usep.ligue59.org
SUMMARY:Rencontre Départementale USEPIADES Cycle 2
DESCRIPTION:
URL:https://usep.ligue59.org/event/rencontre-departementale-usepiades-cycle-2-2/
LOCATION:Les Rues des Vignes
CATEGORIES:Rencontres départementales,Rencontres sportives
END:VEVENT
END:VCALENDAR