BEGIN:VCALENDAR
VERSION:2.0
PRODID:-//USEP Nord - ECPv4.8.2//NONSGML v1.0//EN
CALSCALE:GREGORIAN
METHOD:PUBLISH
X-WR-CALNAME:USEP Nord
X-ORIGINAL-URL:https://usep.ligue59.org
X-WR-CALDESC:Évènements pour USEP Nord
BEGIN:VEVENT
DTSTART;TZID=Europe/Paris:20170510T093000
DTEND;TZID=Europe/Paris:20170510T153000
DTSTAMP:20260422T115812
CREATED:20170302T153749Z
LAST-MODIFIED:20170302T153749Z
UID:529-1494408600-1494430200@usep.ligue59.org
SUMMARY:Rencontre départementale Minihand cycle 3
DESCRIPTION:Du Mondial masculin 2017 … à l’Euro féminin 2018\nAprès le succès des trois premières éditions\, les comités départementaux de HANDBALL et de l’USEP réinscrivent  une manifestation mini-hand dans le cadre du programme éducatif national FFHB / USEP « Handballons-nous » et en vue du championnat d’Europe de handball féminin organisé en France en 2018. \nCette rencontre sportive qui aura lieu le mercredi 10 mai 2017 au Stadium Lille Métropole va permettre de: \n\nEnrichir l’EPS par la pratique du mini-hand\nDévelopper le vivre ensemble dans le cadre associatif par l’implication des enfants dans :\n\nl’organisation des rencontres sportives\nl’arbitrage des rencontres sportives\n\n\nFavoriser l’éducation au bien-être et à la santé à l’occasion de la rencontre.\nAborder le thème de l’égalité filles / garçons dans le cadre de l’EMC\, en réalisant un débat associatif au sein de la classe.\n\n  \n
URL:https://usep.ligue59.org/event/rencontre-departementale-minihand-cycle-3/
LOCATION:Villeneuve d’Ascq
CATEGORIES:Rencontres départementales
END:VEVENT
END:VCALENDAR