BEGIN:VCALENDAR
VERSION:2.0
PRODID:-//USEP Nord - ECPv4.8.2//NONSGML v1.0//EN
CALSCALE:GREGORIAN
METHOD:PUBLISH
X-WR-CALNAME:USEP Nord
X-ORIGINAL-URL:https://usep.ligue59.org
X-WR-CALDESC:Évènements pour USEP Nord
BEGIN:VEVENT
DTSTART;TZID=Europe/Paris:20161013T093000
DTEND;TZID=Europe/Paris:20161013T150000
DTSTAMP:20260422T131736
CREATED:20170302T134817Z
LAST-MODIFIED:20170302T135301Z
UID:464-1476351000-1476370800@usep.ligue59.org
SUMMARY:Rencontre départementale Minihand CE2
DESCRIPTION:Dans le cadre du programme éducatif national FFHB / USEP « Handballons-nous » et à l’approche du championnat du monde de handball masculin organisé en France en 2017\, nous vous proposons une journée minihand. \n10 classes de CE2 des districts de Roubaix et Tourcoing seront accueillies au Kipstadium\, 70 rue de l’Union\, à TOURCOING. \nTrois types d’ateliers : \n\nActivité physique et sportive\nActivité culturelle : Quiz / jeu sur le mondial 2017\nActivité santé : Quiz / jeu\n\n
URL:https://usep.ligue59.org/event/rencontre-departementale-minihand-ce2/
LOCATION:Tourcoing
CATEGORIES:Rencontres départementales
END:VEVENT
END:VCALENDAR