BEGIN:VCALENDAR
VERSION:2.0
PRODID:-//USEP Nord - ECPv4.8.2//NONSGML v1.0//EN
CALSCALE:GREGORIAN
METHOD:PUBLISH
X-WR-CALNAME:USEP Nord
X-ORIGINAL-URL:https://usep.ligue59.org
X-WR-CALDESC:Évènements pour USEP Nord
BEGIN:VEVENT
DTSTART;TZID=Europe/Paris:20170615T093000
DTEND;TZID=Europe/Paris:20170615T153000
DTSTAMP:20260422T121113
CREATED:20170302T144842Z
LAST-MODIFIED:20170302T144842Z
UID:516-1497519000-1497540600@usep.ligue59.org
SUMMARY:Rencontre départementale Kinball
DESCRIPTION:
URL:https://usep.ligue59.org/event/rencontre-departementale-kinball/
LOCATION:Feignies\, Stade D. Eloy
CATEGORIES:Rencontres départementales
END:VEVENT
END:VCALENDAR