BEGIN:VCALENDAR
VERSION:2.0
PRODID:-//USEP Nord - ECPv4.8.2//NONSGML v1.0//EN
CALSCALE:GREGORIAN
METHOD:PUBLISH
X-WR-CALNAME:USEP Nord
X-ORIGINAL-URL:https://usep.ligue59.org
X-WR-CALDESC:Évènements pour USEP Nord
BEGIN:VEVENT
DTSTART;TZID=Europe/Paris:20170927T093000
DTEND;TZID=Europe/Paris:20170927T153000
DTSTAMP:20260422T121651
CREATED:20171113T111621Z
LAST-MODIFIED:20171113T111621Z
UID:1541-1506504600-1506526200@usep.ligue59.org
SUMMARY:Journée Nationale du Sport Scolaire
DESCRIPTION:Rencontre sportive USEP / UNSS au Stadium Lille-Métropole Villeneuve d’Ascq \n
URL:https://usep.ligue59.org/event/journee-nationale-du-sport-scolaire-2/
LOCATION:Villeneuve d’Ascq
CATEGORIES:Rencontres départementales,Rencontres sportives
END:VEVENT
END:VCALENDAR