BEGIN:VCALENDAR
VERSION:2.0
PRODID:-//USEP Nord - ECPv4.8.2//NONSGML v1.0//EN
CALSCALE:GREGORIAN
METHOD:PUBLISH
X-WR-CALNAME:USEP Nord
X-ORIGINAL-URL:https://usep.ligue59.org
X-WR-CALDESC:Évènements pour USEP Nord
BEGIN:VEVENT
DTSTART;VALUE=DATE:20171209
DTEND;VALUE=DATE:20171210
DTSTAMP:20260422T103012
CREATED:20171113T124310Z
LAST-MODIFIED:20171113T124310Z
UID:1577-1512777600-1512863999@usep.ligue59.org
SUMMARY:Journée de la Laïcité
DESCRIPTION:
URL:https://usep.ligue59.org/event/journee-de-la-laicite/
END:VEVENT
END:VCALENDAR