BEGIN:VCALENDAR
VERSION:2.0
PRODID:-//USEP Nord - ECPv4.8.2//NONSGML v1.0//EN
CALSCALE:GREGORIAN
METHOD:PUBLISH
X-WR-CALNAME:USEP Nord
X-ORIGINAL-URL:https://usep.ligue59.org
X-WR-CALDESC:Évènements pour USEP Nord
BEGIN:VEVENT
DTSTART;TZID=Europe/Paris:20171023T150000
DTEND;TZID=Europe/Paris:20171026T120000
DTSTAMP:20260422T104228
CREATED:20171113T113603Z
LAST-MODIFIED:20171113T113603Z
UID:1560-1508770800-1509019200@usep.ligue59.org
SUMMARY:Formation Régionale à CRIEL
DESCRIPTION:Formation Initiale d’Animateurs et Formation Continuée d’Animateurs USEP \n
URL:https://usep.ligue59.org/event/formation-regionale-a-criel/
LOCATION:Criel
CATEGORIES:Comité régionale USEP HdF
END:VEVENT
END:VCALENDAR