BEGIN:VCALENDAR
VERSION:2.0
PRODID:-//USEP Nord - ECPv4.8.2//NONSGML v1.0//EN
CALSCALE:GREGORIAN
METHOD:PUBLISH
X-WR-CALNAME:USEP Nord
X-ORIGINAL-URL:https://usep.ligue59.org
X-WR-CALDESC:Évènements pour USEP Nord
BEGIN:VEVENT
DTSTART;TZID=Europe/Paris:20171129T140000
DTEND;TZID=Europe/Paris:20171129T170000
DTSTAMP:20260422T102636
CREATED:20171113T123820Z
LAST-MODIFIED:20171113T123820Z
UID:1569-1511964000-1511974800@usep.ligue59.org
SUMMARY:Formation Minihand
DESCRIPTION:Formation Minihand préparant à la rencontre départementale organisée en partenariat avec le Comité Nord de Handball le mercredi 16 mai 2018 \n
URL:https://usep.ligue59.org/event/formation-minihand/
LOCATION:Ronchin
CATEGORIES:Rencontres départementales,Rencontres sportives
END:VEVENT
END:VCALENDAR