BEGIN:VCALENDAR
VERSION:2.0
PRODID:-//USEP Nord - ECPv4.8.2//NONSGML v1.0//EN
CALSCALE:GREGORIAN
METHOD:PUBLISH
X-WR-CALNAME:USEP Nord
X-ORIGINAL-URL:https://usep.ligue59.org
X-WR-CALDESC:Évènements pour USEP Nord
BEGIN:VEVENT
DTSTART;TZID=Europe/Paris:20170325T093000
DTEND;TZID=Europe/Paris:20170325T120000
DTSTAMP:20260422T133943
CREATED:20170302T161507Z
LAST-MODIFIED:20170302T161507Z
UID:577-1490434200-1490443200@usep.ligue59.org
SUMMARY:Comité Directeur du CRUSEP Hauts de France
DESCRIPTION:
URL:https://usep.ligue59.org/event/comite-directeur-du-crusep-hauts-de-france/
LOCATION:Arras
CATEGORIES:Comité régionale USEP HdF
END:VEVENT
END:VCALENDAR