BEGIN:VCALENDAR
VERSION:2.0
PRODID:-//USEP Nord - ECPv4.8.2//NONSGML v1.0//EN
CALSCALE:GREGORIAN
METHOD:PUBLISH
X-WR-CALNAME:USEP Nord
X-ORIGINAL-URL:https://usep.ligue59.org
X-WR-CALDESC:Évènements pour USEP Nord
BEGIN:VEVENT
DTSTART;TZID=Europe/Paris:20161109T140000
DTEND;TZID=Europe/Paris:20161109T170000
DTSTAMP:20260422T133512
CREATED:20170302T155024Z
LAST-MODIFIED:20170302T155024Z
UID:550-1478700000-1478710800@usep.ligue59.org
SUMMARY:Comité Directeur de l'USEP Nord
DESCRIPTION:
URL:https://usep.ligue59.org/event/comite-directeur-de-lusep-nord/
LOCATION:Lille
CATEGORIES:Vie statutaire du comité USEP 59
END:VEVENT
END:VCALENDAR