BEGIN:VCALENDAR
VERSION:2.0
PRODID:-//USEP Nord - ECPv4.8.2//NONSGML v1.0//EN
CALSCALE:GREGORIAN
METHOD:PUBLISH
X-WR-CALNAME:USEP Nord
X-ORIGINAL-URL:https://usep.ligue59.org
X-WR-CALDESC:Évènements pour USEP Nord
BEGIN:VEVENT
DTSTART;TZID=Europe/Paris:20171206T140000
DTEND;TZID=Europe/Paris:20171206T170000
DTSTAMP:20260422T103212
CREATED:20171113T124131Z
LAST-MODIFIED:20171113T124131Z
UID:1573-1512568800-1512579600@usep.ligue59.org
SUMMARY:Comité Directeur de l'USEP Nord
DESCRIPTION:Comité Directeur n°2 \n
URL:https://usep.ligue59.org/event/comite-directeur-de-lusep-nord-7/
LOCATION:Carnières
CATEGORIES:Vie statutaire du comité USEP 59
END:VEVENT
END:VCALENDAR