BEGIN:VCALENDAR
VERSION:2.0
PRODID:-//USEP Nord - ECPv4.8.2//NONSGML v1.0//EN
CALSCALE:GREGORIAN
METHOD:PUBLISH
X-WR-CALNAME:USEP Nord
X-ORIGINAL-URL:https://usep.ligue59.org
X-WR-CALDESC:Évènements pour USEP Nord
BEGIN:VEVENT
DTSTART;TZID=Europe/Paris:20170701T090000
DTEND;TZID=Europe/Paris:20170701T120000
DTSTAMP:20260422T115757
CREATED:20170302T160121Z
LAST-MODIFIED:20170302T160121Z
UID:565-1498899600-1498910400@usep.ligue59.org
SUMMARY:Comité Directeur de l'USEP Nord
DESCRIPTION:
URL:https://usep.ligue59.org/event/comite-directeur-de-lusep-nord-5/
LOCATION:Bergues
CATEGORIES:Vie statutaire du comité USEP 59
END:VEVENT
END:VCALENDAR