BEGIN:VCALENDAR
VERSION:2.0
PRODID:-//USEP Nord - ECPv4.8.2//NONSGML v1.0//EN
CALSCALE:GREGORIAN
METHOD:PUBLISH
X-WR-CALNAME:USEP Nord
X-ORIGINAL-URL:https://usep.ligue59.org
X-WR-CALDESC:Évènements pour USEP Nord
BEGIN:VEVENT
DTSTART;TZID=Europe/Paris:20241005T090000
DTEND;TZID=Europe/Paris:20241005T170000
DTSTAMP:20260422T085216
CREATED:20240920T083535Z
LAST-MODIFIED:20240920T083715Z
UID:5015-1728118800-1728147600@usep.ligue59.org
SUMMARY:Color Run USEP
DESCRIPTION: \n
URL:https://usep.ligue59.org/event/color-run-usep/
CATEGORIES:Rencontres sportives
END:VEVENT
END:VCALENDAR