BEGIN:VCALENDAR
VERSION:2.0
PRODID:-//USEP Nord - ECPv4.8.2//NONSGML v1.0//EN
CALSCALE:GREGORIAN
METHOD:PUBLISH
X-WR-CALNAME:USEP Nord
X-ORIGINAL-URL:https://usep.ligue59.org
X-WR-CALDESC:Évènements pour USEP Nord
BEGIN:VEVENT
DTSTART;TZID=Europe/Paris:20170620T093000
DTEND;TZID=Europe/Paris:20170620T153000
DTSTAMP:20260422T115108
CREATED:20170302T144400Z
LAST-MODIFIED:20170302T144400Z
UID:500-1497951000-1497972600@usep.ligue59.org
SUMMARY:Classes Olympiques
DESCRIPTION:Cette rencontre s’inscrit dans le cadre d’une démarche éducative globale\, en lien avec la convention nationale signée entre le CNOSF et le MEN\, dont l’approche est : « mobiliser le sport comme média de culture générale et l’olympisme comme vecteur d’éducation ». \nL’objectif est de promouvoir les valeurs de l’Olympisme à travers une CLASSE OLYMPIQUE dont le concept vise la diffusion et l’appropriation des valeurs sportives auprès de nos jeunes USEPIENS. \nLe projet concernera 12 classes de CM des districts de Valenciennes et de Douai. \n
URL:https://usep.ligue59.org/event/classes-olympiques/
LOCATION:Saint-Amand
CATEGORIES:Rencontres départementales
END:VEVENT
END:VCALENDAR