BEGIN:VCALENDAR
VERSION:2.0
PRODID:-//USEP Nord - ECPv4.8.2//NONSGML v1.0//EN
CALSCALE:GREGORIAN
METHOD:PUBLISH
X-WR-CALNAME:USEP Nord
X-ORIGINAL-URL:https://usep.ligue59.org
X-WR-CALDESC:Évènements pour USEP Nord
BEGIN:VEVENT
DTSTART;TZID=Europe/Paris:20180116T180000
DTEND;TZID=Europe/Paris:20180116T203000
DTSTAMP:20260422T103257
CREATED:20171113T124601Z
LAST-MODIFIED:20171214T142359Z
UID:1580-1516125600-1516134600@usep.ligue59.org
SUMMARY:Cérémonie des Voeux 2018
DESCRIPTION:Cérémonie commune des Voeux LIGUE de l’Enseignement\, UFOLEP et USEP. \n
URL:https://usep.ligue59.org/event/ceremonie-des-voeux-2018/
LOCATION:Stadium Lille Métropole\, Avenue de la Châtellenie (Parking S3)\, Villeneuve-d'Ascq\, 59650\, France
CATEGORIES:Ligue de l'enseignement,Vie statutaire du comité USEP 59
END:VEVENT
END:VCALENDAR