BEGIN:VCALENDAR
VERSION:2.0
PRODID:-//USEP Nord - ECPv4.8.2//NONSGML v1.0//EN
CALSCALE:GREGORIAN
METHOD:PUBLISH
X-WR-CALNAME:USEP Nord
X-ORIGINAL-URL:https://usep.ligue59.org
X-WR-CALDESC:Évènements pour USEP Nord
BEGIN:VEVENT
DTSTART;TZID=Europe/Paris:20180421T090000
DTEND;TZID=Europe/Paris:20180422T123000
DTSTAMP:20260422T085342
CREATED:20171113T125158Z
LAST-MODIFIED:20180209T112258Z
UID:1590-1524301200-1524400200@usep.ligue59.org
SUMMARY:Assemblée Générale Nationale USEP
DESCRIPTION:
URL:https://usep.ligue59.org/event/assemblee-nationale-usep/
LOCATION:Nevers
CATEGORIES:USEP Nationale
END:VEVENT
END:VCALENDAR