BEGIN:VCALENDAR
VERSION:2.0
PRODID:-//USEP Nord - ECPv4.8.2//NONSGML v1.0//EN
CALSCALE:GREGORIAN
METHOD:PUBLISH
X-WR-CALNAME:USEP Nord
X-ORIGINAL-URL:https://usep.ligue59.org
X-WR-CALDESC:Évènements pour USEP Nord
BEGIN:VEVENT
DTSTART;TZID=Europe/Paris:20241204T160000
DTEND;TZID=Europe/Paris:20241204T190000
DTSTAMP:20260422T085508
CREATED:20241009T124654Z
LAST-MODIFIED:20241009T124654Z
UID:5102-1733328000-1733338800@usep.ligue59.org
SUMMARY:Assemblée Générale USEP Nord
DESCRIPTION:
URL:https://usep.ligue59.org/event/assemblee-generale-usep-nord/
LOCATION:Marcq en Baroeul\, 93 rue du fort\, Marca en Baroeul\, 59700\, France
END:VEVENT
END:VCALENDAR