BEGIN:VCALENDAR
VERSION:2.0
PRODID:-//USEP Nord - ECPv4.8.2//NONSGML v1.0//EN
CALSCALE:GREGORIAN
METHOD:PUBLISH
X-WR-CALNAME:USEP Nord
X-ORIGINAL-URL:https://usep.ligue59.org
X-WR-CALDESC:Évènements pour USEP Nord
BEGIN:VEVENT
DTSTART;TZID=Europe/Paris:20170415T090000
DTEND;TZID=Europe/Paris:20170416T130000
DTSTAMP:20260422T115750
CREATED:20170302T160704Z
LAST-MODIFIED:20170302T160704Z
UID:572-1492246800-1492347600@usep.ligue59.org
SUMMARY:Assemblée Générale de l'USEP Nationale
DESCRIPTION:
URL:https://usep.ligue59.org/event/assemblee-generale-de-lusep-nationale/
LOCATION:Mende
CATEGORIES:USEP Nationale
END:VEVENT
END:VCALENDAR